BEGIN:VCALENDAR
VERSION:2.0
PRODID:-//Harry Beckwith - ECPv6.15.20//NONSGML v1.0//EN
CALSCALE:GREGORIAN
METHOD:PUBLISH
X-ORIGINAL-URL:https://hbguns.com
X-WR-CALDESC:Events for Harry Beckwith
REFRESH-INTERVAL;VALUE=DURATION:PT1H
X-Robots-Tag:noindex
X-PUBLISHED-TTL:PT1H
BEGIN:VTIMEZONE
TZID:America/New_York
BEGIN:DAYLIGHT
TZOFFSETFROM:-0500
TZOFFSETTO:-0400
TZNAME:EDT
DTSTART:20240310T070000
END:DAYLIGHT
BEGIN:STANDARD
TZOFFSETFROM:-0400
TZOFFSETTO:-0500
TZNAME:EST
DTSTART:20241103T060000
END:STANDARD
BEGIN:DAYLIGHT
TZOFFSETFROM:-0500
TZOFFSETTO:-0400
TZNAME:EDT
DTSTART:20250309T070000
END:DAYLIGHT
BEGIN:STANDARD
TZOFFSETFROM:-0400
TZOFFSETTO:-0500
TZNAME:EST
DTSTART:20251102T060000
END:STANDARD
BEGIN:DAYLIGHT
TZOFFSETFROM:-0500
TZOFFSETTO:-0400
TZNAME:EDT
DTSTART:20260308T070000
END:DAYLIGHT
BEGIN:STANDARD
TZOFFSETFROM:-0400
TZOFFSETTO:-0500
TZNAME:EST
DTSTART:20261101T060000
END:STANDARD
END:VTIMEZONE
BEGIN:VEVENT
DTSTART;TZID=America/New_York:20250509T140000
DTEND;TZID=America/New_York:20250509T180000
DTSTAMP:20260423T135833
CREATED:20250228T200615Z
LAST-MODIFIED:20250420T091243Z
UID:6281-1746799200-1746813600@hbguns.com
SUMMARY:Handguns 101 Basic Marksmanship
DESCRIPTION:Basic Handguns 101 Firearm Safety and Handling Training Course.  Firearm training is fun and interactive at Harry Beckwith Guns & Range.  If you’re new to firearms or are looking to become more comfortable with them this course is for you.  This course is designed and presented as an entry level program focusing on introducing students to modern handguns\, particularly the semi-automatic handgun. \nCome try something new and have fun acquiring new skills.  Our instructors will give you a great starting point with safe firearm handling and understanding safe rules on and off the range. \nCourse \n\n4- 5 hours\n$95 per person\nPlease bring healthy snacks and water.\nThis is an introductory firearm safety level class\, there are no prerequisites.\n\nTopics Covered Marksmanship with Handguns 101\n\nIntroduction\nWhat’s Your Why\nFirearm Safety & Handling\nRange Rules\nFundamentals of Handgun Shooting\nPutting into Practice\nSkill Assessment\n\nLocation\nWe will be meeting at Harry Beckwith Guns & Range.  Please arrive early\, as we may not permit late arrivals. \n\nHarry Beckwith Guns & Range\n12130 S HWY 441 Micanopy\, FL 32667\n352-466-3340\n\nIncludes\n\nInstruction\nRange time\nTargets\nFirearm Rental of 22lr\n25rds of 22lr ammo\nEar & Eye Protection\n\n\nAge\n\n16yrs and older\nUnder 18yrs of age must have a parent or legal guardian attending the same course for a fun and interactive Handguns 101 Firearm Safety and Handling training course.\n\nRate \n\nAdult $95\n17 and under $50\n\nYou May Bring\n\nYour personal firearm with 50-100 rounds of target ammo.  (No steel casing.)\nEye Protection: We recommend wrap around safety glasses.\nEar Protection: We recommend Electronic Ear Protection.  We sell a few options.\nNotebook & pen to take notes.\nSnack/lunch & water\n\nRange Attire Suitable for Training\n\nCap or Wide Brimmed hat: This is to avoid brass.\nNo loose-fitting shirts at the neck\, tank tops\,v-neck\, etc…To avoid brass from entering shirt.\nSturdy closed-toe shoes\n\nBefore Firearms Training Day\n\nWatch Firearm Safety Video  NSSF Firearm Safety Video\nRead the Firearm Safety Rules\nComplete the Training Range Waiver.\n\n\n  \n \n\n\n\n\n Add to calendar
URL:https://hbguns.com/event/hb-05-09-25-hg-101/
LOCATION:Harry Beckwith Guns & Range\, 12130 South Hwy 441\, Micanopy\, FL\, 32667\, United States
CATEGORIES:Handguns,Handguns 101,Harry Beckwith Guns & Range
ATTACH;FMTTYPE=image/jpeg:https://hbguns.com/wp-content/uploads/2023/01/HBGuns_Handguns101-1.jpg
END:VEVENT
END:VCALENDAR