BEGIN:VCALENDAR
VERSION:2.0
PRODID:-//Harry Beckwith - ECPv6.15.20//NONSGML v1.0//EN
CALSCALE:GREGORIAN
METHOD:PUBLISH
X-WR-CALNAME:Harry Beckwith
X-ORIGINAL-URL:https://hbguns.com
X-WR-CALDESC:Events for Harry Beckwith
REFRESH-INTERVAL;VALUE=DURATION:PT1H
X-Robots-Tag:noindex
X-PUBLISHED-TTL:PT1H
BEGIN:VTIMEZONE
TZID:America/New_York
BEGIN:DAYLIGHT
TZOFFSETFROM:-0500
TZOFFSETTO:-0400
TZNAME:EDT
DTSTART:20240310T070000
END:DAYLIGHT
BEGIN:STANDARD
TZOFFSETFROM:-0400
TZOFFSETTO:-0500
TZNAME:EST
DTSTART:20241103T060000
END:STANDARD
BEGIN:DAYLIGHT
TZOFFSETFROM:-0500
TZOFFSETTO:-0400
TZNAME:EDT
DTSTART:20250309T070000
END:DAYLIGHT
BEGIN:STANDARD
TZOFFSETFROM:-0400
TZOFFSETTO:-0500
TZNAME:EST
DTSTART:20251102T060000
END:STANDARD
BEGIN:DAYLIGHT
TZOFFSETFROM:-0500
TZOFFSETTO:-0400
TZNAME:EDT
DTSTART:20260308T070000
END:DAYLIGHT
BEGIN:STANDARD
TZOFFSETFROM:-0400
TZOFFSETTO:-0500
TZNAME:EST
DTSTART:20261101T060000
END:STANDARD
END:VTIMEZONE
BEGIN:VEVENT
DTSTART;TZID=America/New_York:20251216T113000
DTEND;TZID=America/New_York:20251216T123000
DTSTAMP:20260423T072345
CREATED:20251202T215110Z
LAST-MODIFIED:20251202T215438Z
UID:7536-1765884600-1765888200@hbguns.com
SUMMARY:Gun Talk with Michelle Pickett - Tue 12/16/25 - @ Capricious Local Eatery
DESCRIPTION:We love to get together with friends to discuss firearm skills\, holsters\, and anything else we want.  Come join us and bring a friend.  You will enjoy the discussions and laughter. \nLunch is delicious and have many options.  Purchase your lunch at the counter and come join us. \nFor more information contact Michelle@HBGuns.com \nCapricious Local Eatery \n25335 W Newberry Rd \nNewberry\, FL 32668 \n352-660-2003
URL:https://hbguns.com/event/gun-talk-with-michelle-pickett-tue-12-16-25-capricious-local-eatery/
LOCATION:Capricious Local Eatery – Downtown Newberry\, 25335 W Newberry Rd\, Newberry\, FL\, 32669\, United States
CATEGORIES:Pickett Weaponry of Newberry
ATTACH;FMTTYPE=image/jpeg:https://hbguns.com/wp-content/uploads/2024/08/gun-talk-capricious-e1748727222933.jpeg
END:VEVENT
END:VCALENDAR