BEGIN:VCALENDAR
VERSION:2.0
PRODID:-//Harry Beckwith - ECPv6.15.20//NONSGML v1.0//EN
CALSCALE:GREGORIAN
METHOD:PUBLISH
X-WR-CALNAME:Harry Beckwith
X-ORIGINAL-URL:https://hbguns.com
X-WR-CALDESC:Events for Harry Beckwith
REFRESH-INTERVAL;VALUE=DURATION:PT1H
X-Robots-Tag:noindex
X-PUBLISHED-TTL:PT1H
BEGIN:VTIMEZONE
TZID:Australia/Melbourne
BEGIN:STANDARD
TZOFFSETFROM:+1100
TZOFFSETTO:+1000
TZNAME:AEST
DTSTART:20240406T160000
END:STANDARD
BEGIN:DAYLIGHT
TZOFFSETFROM:+1000
TZOFFSETTO:+1100
TZNAME:AEDT
DTSTART:20241005T160000
END:DAYLIGHT
BEGIN:STANDARD
TZOFFSETFROM:+1100
TZOFFSETTO:+1000
TZNAME:AEST
DTSTART:20250405T160000
END:STANDARD
BEGIN:DAYLIGHT
TZOFFSETFROM:+1000
TZOFFSETTO:+1100
TZNAME:AEDT
DTSTART:20251004T160000
END:DAYLIGHT
BEGIN:STANDARD
TZOFFSETFROM:+1100
TZOFFSETTO:+1000
TZNAME:AEST
DTSTART:20260404T160000
END:STANDARD
BEGIN:DAYLIGHT
TZOFFSETFROM:+1000
TZOFFSETTO:+1100
TZNAME:AEDT
DTSTART:20261003T160000
END:DAYLIGHT
END:VTIMEZONE
BEGIN:VEVENT
DTSTART;TZID=Australia/Melbourne:20250307T150000
DTEND;TZID=Australia/Melbourne:20250307T170000
DTSTAMP:20260423T151629
CREATED:20250228T232102Z
LAST-MODIFIED:20250228T232102Z
UID:6314-1741359600-1741366800@hbguns.com
SUMMARY:USCCA Gears & Gadgets with Ron Stambaugh
DESCRIPTION:What We’ll Teach\nGear and Gadgets\nWalk into any gun shop\, and the variety of gear and gadgets available can be a bit overwhelming. Gun vaults\, holsters\, lights\, lasers—where do you start? In this lesson\, Michael Martin will explain each of those pieces of gear\, and he’ll discuss the options you should consider when you’re ready to go shopping.
URL:https://hbguns.com/event/uscca-gears-gadgets-with-ron-stambaugh/
LOCATION:Harry Beckwith Guns & Range\, 12130 South Hwy 441\, Micanopy\, FL\, 32667\, United States
CATEGORIES:Guest Instructor,Harry Beckwith Guns & Range,Skill Builder Training Series,USCCA Training Courses
END:VEVENT
END:VCALENDAR