BEGIN:VCALENDAR
VERSION:2.0
PRODID:-//Harry Beckwith - ECPv6.15.20//NONSGML v1.0//EN
CALSCALE:GREGORIAN
METHOD:PUBLISH
X-WR-CALNAME:Harry Beckwith
X-ORIGINAL-URL:https://hbguns.com
X-WR-CALDESC:Events for Harry Beckwith
REFRESH-INTERVAL;VALUE=DURATION:PT1H
X-Robots-Tag:noindex
X-PUBLISHED-TTL:PT1H
BEGIN:VTIMEZONE
TZID:America/New_York
BEGIN:DAYLIGHT
TZOFFSETFROM:-0500
TZOFFSETTO:-0400
TZNAME:EDT
DTSTART:20230312T070000
END:DAYLIGHT
BEGIN:STANDARD
TZOFFSETFROM:-0400
TZOFFSETTO:-0500
TZNAME:EST
DTSTART:20231105T060000
END:STANDARD
BEGIN:DAYLIGHT
TZOFFSETFROM:-0500
TZOFFSETTO:-0400
TZNAME:EDT
DTSTART:20240310T070000
END:DAYLIGHT
BEGIN:STANDARD
TZOFFSETFROM:-0400
TZOFFSETTO:-0500
TZNAME:EST
DTSTART:20241103T060000
END:STANDARD
BEGIN:DAYLIGHT
TZOFFSETFROM:-0500
TZOFFSETTO:-0400
TZNAME:EDT
DTSTART:20250309T070000
END:DAYLIGHT
BEGIN:STANDARD
TZOFFSETFROM:-0400
TZOFFSETTO:-0500
TZNAME:EST
DTSTART:20251102T060000
END:STANDARD
END:VTIMEZONE
BEGIN:VEVENT
DTSTART;TZID=America/New_York:20240511T090000
DTEND;TZID=America/New_York:20240511T130000
DTSTAMP:20260422T055132
CREATED:20240324T233011Z
LAST-MODIFIED:20240508T174754Z
UID:3862-1715418000-1715432400@hbguns.com
SUMMARY:HANDGUN 103 - OWB Drawstroke with Michelle Pickett at Pickett Weaponry
DESCRIPTION:HANDGUNS 103 – DRAWSTROKES with Michelle Pickett at Pickett Weaponry\nThis course is designed and presented as an intermediate level program focusing on the safe and efficient drawstroke and presentation of the semi-automatic handgun.  Competency and consistency in the fundamentals of shooting and safe weapons handling skills will continue to be reinforced. \nRange Waiver  Click on the link to sign waiver.  Range Waiver \nCourse Length  4-5 hours \nPrerequisites  This is an intermediate level class.  Students must have successfully taken HG 102 or an equivalent course. \nAmmunition 100 rounds \nAgenda             \n\nReview Firearms Safety\nRefresh Fundamentals (Consistency and competency are expected)\nMedical Plan\nPresentation & Drawstroke\nHolster Options\nPrimary Malfunction\nEmergency or Slide Lock Reloads\nMagazine Exchanges or Tactical Reloads with Retention\nTactical Reloads\nSecondary Malfunction\nLive Fire Range Time\n\nLocation \nWe will be meeting at Pickett Weaponry.  Doors open at 8:30am.  Please arrive early\, as we may not permit late arrivals.  After the classroom portion we will be going to a private outdoor range in Newberry. \n\nPickett Weaponry\n25220 W Newberry Rd\n352-472-4876\n\nAge \n\n18yrs and older\nUnder 18yrs of age must have a parent or legal guardian attending the same course.\n\nEquipment List             \n\nPistol in good working order with at least 3 magazines\nBelt mounted\, dominant side OWB (Outside the Waistband Holster)\nMagazine pouch\nSturdy belt at least 1.5″ wide\nFootwear suitable for rapid movement and turning\nCasual\, comfortable clothing suitable for training in any weather\nHydration system\nSunscreen and bug spray\nHat with a brim\nHearing protection\nWrap-around eye protection\nNote taking materials and highlighter\n\nBy completing enrollment in this training course or event\, you confirm that you have read and agree to our Terms of Sale / Cancelation Policy
URL:https://hbguns.com/event/05-11-24-hg-103-pws/
LOCATION:Pickett Weaponry\, 25220 W Newberry Rd\, Newberry\, FL\, 32669\, United States
CATEGORIES:Concealed Carry,Handgun Confidence,Handguns,Handguns 103,Harry Beckwith Guns & Range,Pickett Weaponry of Newberry,Self Defense
ATTACH;FMTTYPE=image/jpeg:https://hbguns.com/wp-content/uploads/2023/01/PW_Handguns103-1.jpg
END:VEVENT
END:VCALENDAR