BEGIN:VCALENDAR
VERSION:2.0
PRODID:-//Harry Beckwith - ECPv6.15.20//NONSGML v1.0//EN
CALSCALE:GREGORIAN
METHOD:PUBLISH
X-ORIGINAL-URL:https://hbguns.com
X-WR-CALDESC:Events for Harry Beckwith
REFRESH-INTERVAL;VALUE=DURATION:PT1H
X-Robots-Tag:noindex
X-PUBLISHED-TTL:PT1H
BEGIN:VTIMEZONE
TZID:America/New_York
BEGIN:DAYLIGHT
TZOFFSETFROM:-0500
TZOFFSETTO:-0400
TZNAME:EDT
DTSTART:20220313T070000
END:DAYLIGHT
BEGIN:STANDARD
TZOFFSETFROM:-0400
TZOFFSETTO:-0500
TZNAME:EST
DTSTART:20221106T060000
END:STANDARD
BEGIN:DAYLIGHT
TZOFFSETFROM:-0500
TZOFFSETTO:-0400
TZNAME:EDT
DTSTART:20230312T070000
END:DAYLIGHT
BEGIN:STANDARD
TZOFFSETFROM:-0400
TZOFFSETTO:-0500
TZNAME:EST
DTSTART:20231105T060000
END:STANDARD
BEGIN:DAYLIGHT
TZOFFSETFROM:-0500
TZOFFSETTO:-0400
TZNAME:EDT
DTSTART:20240310T070000
END:DAYLIGHT
BEGIN:STANDARD
TZOFFSETFROM:-0400
TZOFFSETTO:-0500
TZNAME:EST
DTSTART:20241103T060000
END:STANDARD
END:VTIMEZONE
BEGIN:VEVENT
DTSTART;TZID=America/New_York:20230819T090000
DTEND;TZID=America/New_York:20230819T160000
DTSTAMP:20260423T060554
CREATED:20230711T215225Z
LAST-MODIFIED:20230711T220449Z
UID:3436-1692435600-1692460800@hbguns.com
SUMMARY:Concealed Carry 2 - with Ross Begnuad
DESCRIPTION:This course is designed and presented as an advanced level program expanding on skills learned in Concealed Carry 1.  Deep concealed carry options will be explored and students will be encouraged and allowed to draw from numerous concealed locations utilizing safe and efficient drawstroke and presentation methods.  Competency and consistency in the fundamentals of shooting and safe weapons handling skills will be expected. \nCourse Length:  6 hours \nPrerequisites:  This is an advanced level class.  Students must have successfully taken Concealed Carry 1 or an equivalent course. \nAmmunition:  100-150 rounds \nEquipment needed:  An outside the waistband (OWB) or rigid inside the waistband (IWB) and a cover garment\, ankle holster\, purse\, fanny pack\, pocket holster\, belly-band type\, etc. \n 
URL:https://hbguns.com/event/concealed-carry/
LOCATION:Pickett Weaponry\, 25220 W Newberry Rd\, Newberry\, FL\, 32669\, United States
CATEGORIES:Concealed Carry,Handguns,Handguns 104,Harry Beckwith Guns & Range,Ross Begnaud,Self Defense
END:VEVENT
END:VCALENDAR