BEGIN:VCALENDAR
VERSION:2.0
PRODID:-//Harry Beckwith - ECPv6.15.20//NONSGML v1.0//EN
CALSCALE:GREGORIAN
METHOD:PUBLISH
X-WR-CALNAME:Harry Beckwith
X-ORIGINAL-URL:https://hbguns.com
X-WR-CALDESC:Events for Harry Beckwith
REFRESH-INTERVAL;VALUE=DURATION:PT1H
X-Robots-Tag:noindex
X-PUBLISHED-TTL:PT1H
BEGIN:VTIMEZONE
TZID:America/New_York
BEGIN:DAYLIGHT
TZOFFSETFROM:-0500
TZOFFSETTO:-0400
TZNAME:EDT
DTSTART:20250309T070000
END:DAYLIGHT
BEGIN:STANDARD
TZOFFSETFROM:-0400
TZOFFSETTO:-0500
TZNAME:EST
DTSTART:20251102T060000
END:STANDARD
BEGIN:DAYLIGHT
TZOFFSETFROM:-0500
TZOFFSETTO:-0400
TZNAME:EDT
DTSTART:20260308T070000
END:DAYLIGHT
BEGIN:STANDARD
TZOFFSETFROM:-0400
TZOFFSETTO:-0500
TZNAME:EST
DTSTART:20261101T060000
END:STANDARD
BEGIN:DAYLIGHT
TZOFFSETFROM:-0500
TZOFFSETTO:-0400
TZNAME:EDT
DTSTART:20270314T070000
END:DAYLIGHT
BEGIN:STANDARD
TZOFFSETFROM:-0400
TZOFFSETTO:-0500
TZNAME:EST
DTSTART:20271107T060000
END:STANDARD
END:VTIMEZONE
BEGIN:VEVENT
DTSTART;TZID=America/New_York:20260613T133000
DTEND;TZID=America/New_York:20260613T183000
DTSTAMP:20260423T044050
CREATED:20260405T001753Z
LAST-MODIFIED:20260410T145446Z
UID:8196-1781357400-1781375400@hbguns.com
SUMMARY:Handgun 102 | Apply for Concealed Weapons | Micanopy FL | Harry Beckwith
DESCRIPTION:Getting your Florida Concealed Weapons License starts here at Harry Beckwith Guns & Range. \nHandgun 102 is designed to build competency and consistency in the fundamentals of handgun shooting. Safe weapons handling is continuously reinforced\, with a strong focus on helping students feel safe\, confident\, and comfortable using a handgun on the range. \n\nFor more information on how to apply for your License after you take the class go to Florida Division of Licensing\nHere is the Florida Concealed Weapon License Reciprocity List\n\n\nPrerequisites \n\nStudents must have successfully taken HG 101 or an equivalent course.\nBasic Marksmanship and Firearm knowledge is required for this course.\n\nIncluded\n\nInstruction\nRange Time\nTarget\n\n  \nLocation\nWe will be meeting at Harry Beckwith Guns & Range. Please arrive early\, as we may not permit late arrivals. \n\nHarry Beckwith Guns & Range\n12130 S HWY 441 Micanopy FL 32669\n352-466-3340
URL:https://hbguns.com/event/06-26-handgun-102-apply-for-concealed-weapons-micanopy-fl-harry-beckwith/
LOCATION:Harry Beckwith Guns & Range\, 12130 South Hwy 441\, Micanopy\, FL\, 32667\, United States
CATEGORIES:1-Handguns Training,Handguns,Handguns 102,Harry Beckwith Guns & Range,Self Defense,Skill Builder Training Series
END:VEVENT
END:VCALENDAR